Package: BioNAR Version: 1.11.0 Command: /home/biocbuild/bbs-3.22-bioc/R/bin/R CMD INSTALL BioNAR StartedAt: 2025-10-24 15:55:02 -0400 (Fri, 24 Oct 2025) EndedAt: 2025-10-24 15:55:28 -0400 (Fri, 24 Oct 2025) EllapsedTime: 25.3 seconds RetCode: 0 Status: OK