Package: BioNAR Version: 1.12.0 Command: /Library/Frameworks/R.framework/Resources/bin/R CMD INSTALL BioNAR StartedAt: 2025-11-10 15:23:07 -0500 (Mon, 10 Nov 2025) EndedAt: 2025-11-10 15:23:17 -0500 (Mon, 10 Nov 2025) EllapsedTime: 10.0 seconds RetCode: 0 Status: OK