Package: BioNAR Version: 1.12.0 Command: rm -rf BioNAR.buildbin-libdir && mkdir BioNAR.buildbin-libdir && /Users/biocbuild/BBS/utils/build-universal.sh BioNAR_1.12.0.tar.gz /Library/Frameworks/R.framework/Resources/bin/R BioNAR.buildbin-libdir StartedAt: 2025-11-10 23:12:53 -0500 (Mon, 10 Nov 2025) EndedAt: 2025-11-10 23:13:04 -0500 (Mon, 10 Nov 2025) EllapsedTime: 11.2 seconds RetCode: 0 Status: OK PackageFile: BioNAR_1.12.0.tgz PackageFileSize: 4.201 MiB