Package: BioMVCClass Version: 1.77.0 Command: /home/biocbuild/R/R/bin/R CMD INSTALL BioMVCClass StartedAt: 2025-10-23 20:33:34 -0000 (Thu, 23 Oct 2025) EndedAt: 2025-10-23 20:33:41 -0000 (Thu, 23 Oct 2025) EllapsedTime: 7.2 seconds RetCode: 0 Status: OK