Package: BioMVCClass Version: 1.77.0 Command: /home/biocbuild/R/R/bin/R CMD check --install=check:BioMVCClass.install-out.txt --library=/home/biocbuild/R/R/site-library --no-vignettes --timings BioMVCClass_1.77.0.tar.gz StartedAt: 2025-10-21 04:59:34 -0000 (Tue, 21 Oct 2025) EndedAt: 2025-10-21 06:02:16 -0000 (Tue, 21 Oct 2025) EllapsedTime: 3761.7 seconds RetCode: None Status: TIMEOUT CheckDir: BioMVCClass.Rcheck Warnings: NA