Package: BioMVCClass Version: 1.77.0 Command: /Library/Frameworks/R.framework/Resources/bin/R CMD INSTALL BioMVCClass StartedAt: 2025-10-24 15:10:55 -0400 (Fri, 24 Oct 2025) EndedAt: 2025-10-24 15:10:57 -0400 (Fri, 24 Oct 2025) EllapsedTime: 2.1 seconds RetCode: 0 Status: OK