Package: BioGA Version: 1.3.0 Command: /home/biocbuild/bbs-3.22-bioc/R/bin/R CMD INSTALL BioGA StartedAt: 2025-10-24 16:09:47 -0400 (Fri, 24 Oct 2025) EndedAt: 2025-10-24 16:10:31 -0400 (Fri, 24 Oct 2025) EllapsedTime: 43.7 seconds RetCode: 0 Status: OK