Package: BioGA Version: 1.4.0 Command: /home/biocbuild/bbs-3.22-bioc/R/bin/R CMD check --install=check:BioGA.install-out.txt --library=/home/biocbuild/bbs-3.22-bioc/R/site-library --timings BioGA_1.4.0.tar.gz StartedAt: 2025-11-14 21:39:40 -0500 (Fri, 14 Nov 2025) EndedAt: 2025-11-14 21:43:17 -0500 (Fri, 14 Nov 2025) EllapsedTime: 216.3 seconds RetCode: 0 Status: OK CheckDir: BioGA.Rcheck Warnings: 0