Package: BioGA Version: 1.3.0 Command: /home/biocbuild/bbs-3.22-bioc/R/bin/R CMD build --keep-empty-dirs --no-resave-data --md5 BioGA StartedAt: 2025-10-24 16:40:27 -0400 (Fri, 24 Oct 2025) EndedAt: 2025-10-24 16:41:20 -0400 (Fri, 24 Oct 2025) EllapsedTime: 53.0 seconds RetCode: 0 Status: OK PackageFile: BioGA_1.3.0.tar.gz PackageFileSize: 329.4 KiB