Package: BioGA Version: 1.4.0 Command: /Library/Frameworks/R.framework/Resources/bin/R CMD INSTALL BioGA StartedAt: 2025-10-29 22:33:10 -0400 (Wed, 29 Oct 2025) EndedAt: 2025-10-29 22:34:05 -0400 (Wed, 29 Oct 2025) EllapsedTime: 55.1 seconds RetCode: 0 Status: OK