Package: BioGA Version: 1.4.0 Command: /Library/Frameworks/R.framework/Resources/bin/R CMD build --keep-empty-dirs --no-resave-data BioGA StartedAt: 2025-10-29 22:55:00 -0400 (Wed, 29 Oct 2025) EndedAt: 2025-10-29 22:56:01 -0400 (Wed, 29 Oct 2025) EllapsedTime: 61.5 seconds RetCode: 0 Status: OK PackageFile: BioGA_1.4.0.tar.gz PackageFileSize: 310.3 KiB