Package: BioGA Version: 1.4.0 Command: rm -rf BioGA.buildbin-libdir && mkdir BioGA.buildbin-libdir && /Users/biocbuild/BBS/utils/build-universal.sh BioGA_1.4.0.tar.gz /Library/Frameworks/R.framework/Resources/bin/R BioGA.buildbin-libdir StartedAt: 2025-10-30 08:06:16 -0400 (Thu, 30 Oct 2025) EndedAt: 2025-10-30 08:07:17 -0400 (Thu, 30 Oct 2025) EllapsedTime: 60.5 seconds RetCode: 0 Status: OK PackageFile: BioGA_1.4.0.tgz PackageFileSize: 359.3 KiB