Package: BioGA Version: 1.3.0 Command: /Library/Frameworks/R.framework/Resources/bin/R CMD INSTALL BioGA StartedAt: 2025-10-24 15:34:15 -0400 (Fri, 24 Oct 2025) EndedAt: 2025-10-24 15:34:30 -0400 (Fri, 24 Oct 2025) EllapsedTime: 15.4 seconds RetCode: 0 Status: OK