Package: BioGA Version: 1.3.0 Command: rm -rf BioGA.buildbin-libdir && mkdir BioGA.buildbin-libdir && /Users/biocbuild/BBS/utils/build-universal.sh BioGA_1.3.0.tar.gz /Library/Frameworks/R.framework/Resources/bin/R BioGA.buildbin-libdir StartedAt: 2025-10-24 22:55:42 -0400 (Fri, 24 Oct 2025) EndedAt: 2025-10-24 22:56:00 -0400 (Fri, 24 Oct 2025) EllapsedTime: 17.4 seconds RetCode: 0 Status: OK PackageFile: BioGA_1.3.0.tgz PackageFileSize: 357.8 KiB