Package: BioGA Version: 1.4.0 Maintainer: Dany Mukesha MaintainerEmail: danymukesha at gmail.com git_url: https://git.bioconductor.org/packages/BioGA git_branch: RELEASE_3_22 git_last_commit: d779378 git_last_commit_date: 2025-10-29 11:30:53 -0400 (Wed, 29 Oct 2025)