Package: BioCor Version: 1.33.3 Command: /home/biocbuild/bbs-3.22-bioc/R/bin/R CMD INSTALL BioCor StartedAt: 2025-10-24 15:40:42 -0400 (Fri, 24 Oct 2025) EndedAt: 2025-10-24 15:41:01 -0400 (Fri, 24 Oct 2025) EllapsedTime: 19.4 seconds RetCode: 0 Status: OK