Package: BioCor Version: 1.34.0 Command: /Library/Frameworks/R.framework/Resources/bin/R CMD INSTALL BioCor StartedAt: 2025-11-06 15:10:00 -0500 (Thu, 06 Nov 2025) EndedAt: 2025-11-06 15:10:08 -0500 (Thu, 06 Nov 2025) EllapsedTime: 7.4 seconds RetCode: 0 Status: OK