Package: BioCor Version: 1.34.0 Command: /Library/Frameworks/R.framework/Resources/bin/R CMD build --keep-empty-dirs --no-resave-data BioCor StartedAt: 2025-11-06 15:45:55 -0500 (Thu, 06 Nov 2025) EndedAt: 2025-11-06 15:47:11 -0500 (Thu, 06 Nov 2025) EllapsedTime: 75.9 seconds RetCode: 0 Status: OK PackageFile: BioCor_1.34.0.tar.gz PackageFileSize: 1.539 MiB