Package: BioCartaImage Version: 1.7.0 Command: /home/biocbuild/bbs-3.22-bioc/R/bin/R CMD INSTALL BioCartaImage StartedAt: 2025-10-24 15:13:27 -0400 (Fri, 24 Oct 2025) EndedAt: 2025-10-24 15:13:46 -0400 (Fri, 24 Oct 2025) EllapsedTime: 19.0 seconds RetCode: 0 Status: OK