Package: BioCartaImage Version: 1.7.0 Command: /home/biocbuild/bbs-3.22-bioc/R/bin/R CMD build --keep-empty-dirs --no-resave-data --md5 BioCartaImage StartedAt: 2025-10-24 16:38:24 -0400 (Fri, 24 Oct 2025) EndedAt: 2025-10-24 16:38:35 -0400 (Fri, 24 Oct 2025) EllapsedTime: 11.0 seconds RetCode: 0 Status: OK PackageFile: BioCartaImage_1.7.0.tar.gz PackageFileSize: 3.629 MiB