Package: BioCartaImage Version: 1.7.0 Command: /Library/Frameworks/R.framework/Resources/bin/R CMD build --keep-empty-dirs --no-resave-data BioCartaImage StartedAt: 2025-10-24 16:17:57 -0400 (Fri, 24 Oct 2025) EndedAt: 2025-10-24 16:18:13 -0400 (Fri, 24 Oct 2025) EllapsedTime: 16.0 seconds RetCode: 0 Status: OK PackageFile: BioCartaImage_1.7.0.tar.gz PackageFileSize: 3.627 MiB