Package: BioCartaImage Version: 1.7.0 Command: /Library/Frameworks/R.framework/Resources/bin/R CMD INSTALL BioCartaImage StartedAt: 2025-10-26 15:01:47 -0400 (Sun, 26 Oct 2025) EndedAt: 2025-10-26 15:01:57 -0400 (Sun, 26 Oct 2025) EllapsedTime: 10.1 seconds RetCode: 0 Status: OK