Package: BioCartaImage Version: 1.7.0 Command: /Library/Frameworks/R.framework/Resources/bin/R CMD build --keep-empty-dirs --no-resave-data BioCartaImage StartedAt: 2025-10-26 15:45:45 -0400 (Sun, 26 Oct 2025) EndedAt: 2025-10-26 15:45:51 -0400 (Sun, 26 Oct 2025) EllapsedTime: 6.1 seconds RetCode: 0 Status: OK PackageFile: BioCartaImage_1.7.0.tar.gz PackageFileSize: 3.628 MiB