Package: BicARE Version: 1.68.0 Command: /home/biocbuild/bbs-3.22-bioc/R/bin/R CMD INSTALL BicARE StartedAt: 2025-11-16 15:47:48 -0500 (Sun, 16 Nov 2025) EndedAt: 2025-11-16 15:48:08 -0500 (Sun, 16 Nov 2025) EllapsedTime: 19.5 seconds RetCode: 0 Status: OK