Package: BicARE Version: 1.68.0 Command: /home/biocbuild/bbs-3.22-bioc/R/bin/R CMD build --keep-empty-dirs --no-resave-data --md5 BicARE StartedAt: 2025-11-16 16:33:02 -0500 (Sun, 16 Nov 2025) EndedAt: 2025-11-16 16:35:17 -0500 (Sun, 16 Nov 2025) EllapsedTime: 134.1 seconds RetCode: 0 Status: OK PackageFile: BicARE_1.68.0.tar.gz PackageFileSize: 461.4 KiB