Package: BiSeq Version: 1.49.1 Command: /home/biocbuild/bbs-3.22-bioc/R/bin/R CMD INSTALL BiSeq StartedAt: 2025-10-24 15:40:09 -0400 (Fri, 24 Oct 2025) EndedAt: 2025-10-24 15:40:50 -0400 (Fri, 24 Oct 2025) EllapsedTime: 41.0 seconds RetCode: 0 Status: OK