Package: BiSeq Version: 1.50.0 Command: /Library/Frameworks/R.framework/Resources/bin/R CMD INSTALL BiSeq StartedAt: 2025-11-02 15:36:51 -0500 (Sun, 02 Nov 2025) EndedAt: 2025-11-02 15:37:47 -0500 (Sun, 02 Nov 2025) EllapsedTime: 56.2 seconds RetCode: 0 Status: OK