Package: BiSeq Version: 1.50.0 Command: /Library/Frameworks/R.framework/Resources/bin/R CMD build --keep-empty-dirs --no-resave-data BiSeq StartedAt: 2025-11-02 16:20:35 -0500 (Sun, 02 Nov 2025) EndedAt: 2025-11-02 16:22:37 -0500 (Sun, 02 Nov 2025) EllapsedTime: 121.9 seconds RetCode: 0 Status: OK PackageFile: BiSeq_1.50.0.tar.gz PackageFileSize: 914.2 KiB