Package: BiSeq Version: 1.50.0 Command: rm -rf BiSeq.buildbin-libdir && mkdir BiSeq.buildbin-libdir && /Users/biocbuild/BBS/utils/build-universal.sh BiSeq_1.50.0.tar.gz /Library/Frameworks/R.framework/Resources/bin/R BiSeq.buildbin-libdir StartedAt: 2025-11-03 01:30:44 -0500 (Mon, 03 Nov 2025) EndedAt: 2025-11-03 01:31:45 -0500 (Mon, 03 Nov 2025) EllapsedTime: 61.3 seconds RetCode: 0 Status: OK PackageFile: BiSeq_1.50.0.tgz PackageFileSize: 1.157 MiB