Package: BiSeq Version: 1.49.1 Command: /Library/Frameworks/R.framework/Resources/bin/R CMD INSTALL BiSeq StartedAt: 2025-10-24 15:19:10 -0400 (Fri, 24 Oct 2025) EndedAt: 2025-10-24 15:19:26 -0400 (Fri, 24 Oct 2025) EllapsedTime: 16.6 seconds RetCode: 0 Status: OK