Package: BiSeq Version: 1.49.1 Command: /Library/Frameworks/R.framework/Resources/bin/R CMD build --keep-empty-dirs --no-resave-data BiSeq StartedAt: 2025-10-24 15:50:04 -0400 (Fri, 24 Oct 2025) EndedAt: 2025-10-24 15:50:49 -0400 (Fri, 24 Oct 2025) EllapsedTime: 45.5 seconds RetCode: 0 Status: OK PackageFile: BiSeq_1.49.1.tar.gz PackageFileSize: 915.3 KiB