Package: BiRewire Version: 3.41.0 Command: /home/biocbuild/bbs-3.22-bioc/R/bin/R CMD build --keep-empty-dirs --no-resave-data --md5 BiRewire StartedAt: 2025-10-24 16:41:39 -0400 (Fri, 24 Oct 2025) EndedAt: 2025-10-24 16:41:49 -0400 (Fri, 24 Oct 2025) EllapsedTime: 10.0 seconds RetCode: 1 Status: ERROR PackageFile: None PackageFileSize: NA