Package: BiFET Version: 1.29.1 Command: /home/biocbuild/bbs-3.22-bioc/R/bin/R CMD INSTALL BiFET StartedAt: 2025-10-28 15:22:22 -0400 (Tue, 28 Oct 2025) EndedAt: 2025-10-28 15:22:30 -0400 (Tue, 28 Oct 2025) EllapsedTime: 7.7 seconds RetCode: 0 Status: OK