Package: BgeeDB Version: 2.35.1 Command: /home/biocbuild/bbs-3.22-bioc/R/bin/R CMD INSTALL BgeeDB StartedAt: 2025-10-24 15:50:07 -0400 (Fri, 24 Oct 2025) EndedAt: 2025-10-24 15:50:43 -0400 (Fri, 24 Oct 2025) EllapsedTime: 36.4 seconds RetCode: 0 Status: OK