Package: BgeeDB Version: 2.35.1 Command: /home/biocbuild/bbs-3.22-bioc/R/bin/R CMD build --keep-empty-dirs --no-resave-data --md5 BgeeDB StartedAt: 2025-10-27 16:28:01 -0400 (Mon, 27 Oct 2025) EndedAt: 2025-10-27 16:33:35 -0400 (Mon, 27 Oct 2025) EllapsedTime: 333.3 seconds RetCode: 0 Status: OK PackageFile: BgeeDB_2.35.1.tar.gz PackageFileSize: 108.6 KiB