Package: BgeeCall Version: 1.25.1 Command: /home/biocbuild/bbs-3.22-bioc/R/bin/R CMD INSTALL BgeeCall StartedAt: 2025-10-24 15:54:25 -0400 (Fri, 24 Oct 2025) EndedAt: 2025-10-24 15:55:09 -0400 (Fri, 24 Oct 2025) EllapsedTime: 43.2 seconds RetCode: 0 Status: OK