Package: BgeeCall Version: 1.25.1 Command: /home/biocbuild/bbs-3.22-bioc/R/bin/R CMD build --keep-empty-dirs --no-resave-data --md5 BgeeCall StartedAt: 2025-10-24 16:36:10 -0400 (Fri, 24 Oct 2025) EndedAt: 2025-10-24 16:37:42 -0400 (Fri, 24 Oct 2025) EllapsedTime: 92.1 seconds RetCode: 0 Status: OK PackageFile: BgeeCall_1.25.1.tar.gz PackageFileSize: 5.682 MiB