Package: BeadDataPackR Version: 1.62.0 Command: /home/biocbuild/bbs-3.22-bioc/R/bin/R CMD check --install=check:BeadDataPackR.install-out.txt --library=/home/biocbuild/bbs-3.22-bioc/R/site-library --timings BeadDataPackR_1.62.0.tar.gz StartedAt: 2025-11-06 21:21:59 -0500 (Thu, 06 Nov 2025) EndedAt: 2025-11-06 21:22:19 -0500 (Thu, 06 Nov 2025) EllapsedTime: 20.0 seconds RetCode: 0 Status: OK CheckDir: BeadDataPackR.Rcheck Warnings: 0