Package: BeadDataPackR Version: 1.61.0 Command: /Library/Frameworks/R.framework/Resources/bin/R CMD build --keep-empty-dirs --no-resave-data BeadDataPackR StartedAt: 2025-10-24 16:14:24 -0400 (Fri, 24 Oct 2025) EndedAt: 2025-10-24 16:14:38 -0400 (Fri, 24 Oct 2025) EllapsedTime: 13.7 seconds RetCode: 0 Status: OK PackageFile: BeadDataPackR_1.61.0.tar.gz PackageFileSize: 235.3 KiB