Package: BeadDataPackR Version: 1.61.0 Command: rm -rf BeadDataPackR.buildbin-libdir && mkdir BeadDataPackR.buildbin-libdir && /Users/biocbuild/BBS/utils/build-universal.sh BeadDataPackR_1.61.0.tar.gz /Library/Frameworks/R.framework/Resources/bin/R BeadDataPackR.buildbin-libdir StartedAt: 2025-10-29 01:23:57 -0400 (Wed, 29 Oct 2025) EndedAt: 2025-10-29 01:24:05 -0400 (Wed, 29 Oct 2025) EllapsedTime: 8.1 seconds RetCode: 0 Status: OK PackageFile: BeadDataPackR_1.61.0.tgz PackageFileSize: 284 KiB