Package: BeadDataPackR Version: 1.61.0 Command: /Library/Frameworks/R.framework/Resources/bin/R CMD INSTALL BeadDataPackR StartedAt: 2025-10-27 15:03:16 -0400 (Mon, 27 Oct 2025) EndedAt: 2025-10-27 15:03:32 -0400 (Mon, 27 Oct 2025) EllapsedTime: 16.4 seconds RetCode: 0 Status: OK