Package: BeadDataPackR Version: 1.62.0 Maintainer: Mike Smith MaintainerEmail: grimbough at gmail.com git_url: https://git.bioconductor.org/packages/BeadDataPackR git_branch: RELEASE_3_22 git_last_commit: eed1f34 git_last_commit_date: 2025-10-29 10:04:38 -0500 (Wed, 29 Oct 2025)