Package: BayesSpace Version: 1.19.5 Command: /home/biocbuild/bbs-3.22-bioc/R/bin/R CMD INSTALL BayesSpace StartedAt: 2025-10-27 15:59:54 -0400 (Mon, 27 Oct 2025) EndedAt: 2025-10-27 16:01:03 -0400 (Mon, 27 Oct 2025) EllapsedTime: 69.2 seconds RetCode: 0 Status: OK