Package: BayesSpace Version: 1.19.5 Command: /home/biocbuild/bbs-3.22-bioc/R/bin/R CMD build --keep-empty-dirs --no-resave-data --md5 BayesSpace StartedAt: 2025-10-24 16:31:57 -0400 (Fri, 24 Oct 2025) EndedAt: 2025-10-24 16:34:32 -0400 (Fri, 24 Oct 2025) EllapsedTime: 155.1 seconds RetCode: 0 Status: OK PackageFile: BayesSpace_1.19.5.tar.gz PackageFileSize: 3.076 MiB