Package: BatchSVG Version: 1.1.1 Command: /home/biocbuild/bbs-3.22-bioc/R/bin/R CMD INSTALL BatchSVG StartedAt: 2025-10-24 16:03:50 -0400 (Fri, 24 Oct 2025) EndedAt: 2025-10-24 16:04:16 -0400 (Fri, 24 Oct 2025) EllapsedTime: 25.6 seconds RetCode: 0 Status: OK