Package: BatchSVG Version: 1.1.1 Command: /home/biocbuild/bbs-3.22-bioc/R/bin/R CMD check --install=check:BatchSVG.install-out.txt --library=/home/biocbuild/bbs-3.22-bioc/R/site-library --timings BatchSVG_1.1.1.tar.gz StartedAt: 2025-10-24 21:26:02 -0400 (Fri, 24 Oct 2025) EndedAt: 2025-10-24 21:36:08 -0400 (Fri, 24 Oct 2025) EllapsedTime: 606.2 seconds RetCode: 0 Status: OK CheckDir: BatchSVG.Rcheck Warnings: 0