Package: BatchSVG Version: 1.1.1 Command: /home/biocbuild/bbs-3.22-bioc/R/bin/R CMD build --keep-empty-dirs --no-resave-data --md5 BatchSVG StartedAt: 2025-10-24 16:31:45 -0400 (Fri, 24 Oct 2025) EndedAt: 2025-10-24 16:34:35 -0400 (Fri, 24 Oct 2025) EllapsedTime: 170.1 seconds RetCode: 0 Status: OK PackageFile: BatchSVG_1.1.1.tar.gz PackageFileSize: 1.541 MiB