Package: BatchSVG Version: 1.1.1 Command: /Library/Frameworks/R.framework/Resources/bin/R CMD build --keep-empty-dirs --no-resave-data BatchSVG StartedAt: 2025-10-24 16:12:58 -0400 (Fri, 24 Oct 2025) EndedAt: 2025-10-24 16:16:24 -0400 (Fri, 24 Oct 2025) EllapsedTime: 206.4 seconds RetCode: 0 Status: OK PackageFile: BatchSVG_1.1.1.tar.gz PackageFileSize: 1.692 MiB