Package: BatchSVG Version: 1.1.1 Command: /Library/Frameworks/R.framework/Resources/bin/R CMD build --keep-empty-dirs --no-resave-data BatchSVG StartedAt: 2025-10-24 15:45:28 -0400 (Fri, 24 Oct 2025) EndedAt: 2025-10-24 15:46:34 -0400 (Fri, 24 Oct 2025) EllapsedTime: 66.7 seconds RetCode: 0 Status: OK PackageFile: BatchSVG_1.1.1.tar.gz PackageFileSize: 1.698 MiB