Package: BatchSVG Version: 1.1.1 Command: rm -rf BatchSVG.buildbin-libdir && mkdir BatchSVG.buildbin-libdir && /Users/biocbuild/BBS/utils/build-universal.sh BatchSVG_1.1.1.tar.gz /Library/Frameworks/R.framework/Resources/bin/R BatchSVG.buildbin-libdir StartedAt: 2025-10-24 22:54:52 -0400 (Fri, 24 Oct 2025) EndedAt: 2025-10-24 22:55:05 -0400 (Fri, 24 Oct 2025) EllapsedTime: 12.2 seconds RetCode: 0 Status: OK PackageFile: BatchSVG_1.1.1.tgz PackageFileSize: 1.722 MiB